BEGIN:VCALENDAR
VERSION:2.0
METHOD:PUBLISH
BEGIN:VEVENT
DTSTART:20260317T193000Z
LOCATION:Inselhalle Lindau
TRANSP: OPAQUE
SEQUENCE:0
UID:
DTSTAMP:20260421T095702Z
SUMMARY:Int. Ocean Film Tour
DESCRIPTION:Am 17.03.2026 gastiert die INTERNATIONAL OCEAN FILM TOUR Vol. 12 in der Inselhalle Lindau und bringt die faszinierende Welt der Ozeane auf die große Leinwand. Seit über zehn Jahren begeistert die Tour ihr Publikum mit inspirierenden Filmen über Wassersport, Meeresabenteuer und den Schutz unserer Ozeane.Das zweistündige Filmprogramm zeigt Menschen, die das Meer lieben – und alles dafür tun, diesen einzigartigen Lebensraum zu bewahren. Die INTERNATIONAL OCEAN FILM TOUR präsentiert auch in ihrer zwölften Ausgabe wieder einen unverwechselbaren Mix aus Filmen über Wassersport, Abenteuer und Naturschutz. Mit jeder Ausgabe liefert die Tour spannende Geschichten, Inspiration und unvergessliche Denkanstöße rund um das [&hellip;]
PRIORITY:1
CLASS:PUBLIC
BEGIN:VALARM
TRIGGER:-PT10080M
ACTION:DISPLAY
DESCRIPTION:Reminder
END:VALARM
END:VEVENT
END:VCALENDAR
