BEGIN:VCALENDAR
VERSION:2.0
METHOD:PUBLISH
BEGIN:VEVENT
DTSTART:20260321T180000Z
LOCATION:Innenstadt Pfullendorf
TRANSP: OPAQUE
SEQUENCE:0
UID:
DTSTAMP:20260420T094745Z
SUMMARY:Lichterfest
DESCRIPTION:Am 21. März 2026 findet in Pfullendorf erstmals das Lichterfest statt – ein großes Community-Arts-Projekt unter dem Motto „Viele Lichter – ein Wir!“.Das große Highlight – die Lichterparade – findet am Samstag 21. März 2026 statt. Um 18 Uhr startet unser Umzug vom Marktplatz aus durch die Pfullendorfer Altstadt. Das Lichterfest ist nicht nur ein Fest der Lichter, sondern auch ein Fest der Gemeinschaft. Kommt vorbei, bringt Freunde und Familie mit und lasst uns zusammen die kreative Vielfalt unserer Stadt feiern. Wir freuen uns über viele Zuschauer, die gerne auch eigene Laternen von zu Hause mitbringen können, um uns den [&hellip;]
PRIORITY:1
CLASS:PUBLIC
BEGIN:VALARM
TRIGGER:-PT10080M
ACTION:DISPLAY
DESCRIPTION:Reminder
END:VALARM
END:VEVENT
END:VCALENDAR
