BEGIN:VCALENDAR
VERSION:2.0
METHOD:PUBLISH
BEGIN:VEVENT
DTSTART:20260314T160000Z
LOCATION:Evang.-Luth. Christuskirche
TRANSP: OPAQUE
SEQUENCE:0
UID:
DTSTAMP:20260421T100537Z
SUMMARY:Vesperkirche: Kleidertauschparty
DESCRIPTION:Kleidertausch statt Kleiderkauf &#8211; für Damen, Herren und Jugendliche ab 12 Jahren.Dein Kleiderschrank platzt aus allen Nähten, aber du findest trotzdem nichts zum An-ziehen? Dann ist unsere Kleidertausch-Party genau das Richtige für dich! Bringe gut erhaltene Kleidungsstücke mit und finde neue Lieblingsteile – ganz ohne Geld auszugeben.So funktioniert´s:Bringe pro Person maximal 7 saisonale (Frühjahr/Sommer) Kleidungsstücke, Schuhe oder Accessoires sauber, gewaschen, gut erhalten. Keine Unterwäsche, Kinder- oder Babykleidung.Erhalte 7 Tauschmarken für deine mitgebrachten Klamotten und suche dir dafür deine neuen second-hand Lieblingsstücke aus.Stöbere in den Schätzen der anderen. Nimm mit, was dir gefällt &#8211; nachhaltig, kostenlos &amp; mit Spaß!Abgabe: Samstag, 14.03.2026, [&hellip;]
PRIORITY:1
CLASS:PUBLIC
BEGIN:VALARM
TRIGGER:-PT10080M
ACTION:DISPLAY
DESCRIPTION:Reminder
END:VALARM
END:VEVENT
END:VCALENDAR
