BEGIN:VCALENDAR
VERSION:2.0
METHOD:PUBLISH
BEGIN:VEVENT
DTSTART:20260321T203000Z
LOCATION:Gasthof Adler Dietmanns
TRANSP: OPAQUE
SEQUENCE:0
UID:
DTSTAMP:20260421T083035Z
SUMMARY:Kabarett: Trio Berta Epple
DESCRIPTION:Für ihr neues Programm haben Bobbi Fischer, Veit und Gregor Hübner instrumentale Glanzstücke aus ihrem genresprengenden Repertoire ausgewählt, in denen sie ihrer Spielfreude freien Lauf lassen können. Sozusagen ein „Best-of“ Songs, die sie musikalisch in die ganze Welt führt – und natürlich auch am Sa., 21. März ab 20:30 Uhr nach Dietmanns. Karten gibt es im Vorverkauf beim Adler, Livebühne Dietmanns unter 07564 91232 zum Preis von 28 Euro.
PRIORITY:1
CLASS:PUBLIC
BEGIN:VALARM
TRIGGER:-PT10080M
ACTION:DISPLAY
DESCRIPTION:Reminder
END:VALARM
END:VEVENT
END:VCALENDAR
