BEGIN:VCALENDAR
VERSION:2.0
METHOD:PUBLISH
BEGIN:VEVENT
DTSTART:20260318T190000Z
LOCATION:Städtische Musikschule Bad Saulgau
TRANSP: OPAQUE
SEQUENCE:0
UID:
DTSTAMP:20260422T083508Z
SUMMARY:Orchesterkonzert der Musikschule Bad Saulgau
DESCRIPTION:Orchesterkonzert der Musikschule Bad Saulgau
PRIORITY:1
CLASS:PUBLIC
BEGIN:VALARM
TRIGGER:-PT10080M
ACTION:DISPLAY
DESCRIPTION:Reminder
END:VALARM
END:VEVENT
END:VCALENDAR
