BEGIN:VCALENDAR
VERSION:2.0
METHOD:PUBLISH
BEGIN:VEVENT
DTSTART:20260313T203000Z
LOCATION:Kiesel im K42
TRANSP: OPAQUE
SEQUENCE:0
UID:
DTSTAMP:20260421T113038Z
SUMMARY:Filmtage Friedrichshafen
DESCRIPTION:Die Filmtage, organisiert vom Kulturbüro Friedrichshafen, präsentieren auch in diesem Jahr wieder vielfach preisgekrönte und sehenswerte Kurz- und Dokumentarfilme junger Filmemacherinnen und Filmemacher aus Deutschland, Österreich und der Schweiz.Die Auswahljury der Filmtage hat ein spannendes Programm mit vielen aktuellen Bezügen zusammengestellt. Auch in diesem Jahr gibt es wieder einige Filmperlen zu entdecken, vom kurzen Animationsfilm über eindringliche Kurzdokumentarfilme bis hin zum dreißigminütigen Drama ist thematisch und filmisch wieder eine große Vielfalt vertreten.Gezeigt werden qualitativ hochwertige Filme mit gesellschaftlicher Relevanz und Unterhaltungsfaktor. Im Anschluss an die Vorführungen finden moderierte Publikumsgespräche mit den anwesenden Filmschaffenden statt.
PRIORITY:1
CLASS:PUBLIC
BEGIN:VALARM
TRIGGER:-PT10080M
ACTION:DISPLAY
DESCRIPTION:Reminder
END:VALARM
END:VEVENT
END:VCALENDAR
