BEGIN:VCALENDAR
VERSION:2.0
METHOD:PUBLISH
BEGIN:VEVENT
DTSTART:20260312T183000Z
LOCATION:Universität Ulm / Hörsaal H21
TRANSP: OPAQUE
SEQUENCE:0
UID:
DTSTAMP:20260420T083653Z
SUMMARY:Vortrag: Botanik und Spirituosen
DESCRIPTION:anschließend Mitgliederversammlung der Freunde des Botanischen Gartens e. V.Donnerstag, 12.03.26 18.30 Uhr Vortrag: “Botanik und Spirituosen” anschließend Mitgliederversammlung der Freunde des Botanischen Gartens e.V. Vortrag: Botanik und Spirituosen Referent: Dr. Daniel Einfalt Treffpunkt: Hörsaal H21 | Universität Ulm Kostenlos
PRIORITY:1
CLASS:PUBLIC
BEGIN:VALARM
TRIGGER:-PT10080M
ACTION:DISPLAY
DESCRIPTION:Reminder
END:VALARM
END:VEVENT
END:VCALENDAR
