BEGIN:VCALENDAR
VERSION:2.0
METHOD:PUBLISH
BEGIN:VEVENT
DTSTART:20260314T200000Z
LOCATION:Werner- und Erika-Messmer-Haus
TRANSP: OPAQUE
SEQUENCE:0
UID:
DTSTAMP:20260421T083051Z
SUMMARY:Kleinkunst mit Barbara Mauch: Die Goldigen Zwanziger
DESCRIPTION:DIE GOLDIGEN ZWANZIGERTango &#8211; Krokodile &#8211; Pakete &#8211; SchaumküsseAm Samstag, 14. März, um 20 Uhr gastiert die Künstlerin Barbara Mauch mit ihrem Programm „Die Goldigen Zwanziger“ im Werner- und Erika-Messmer-Haus in Espasingen. Veranstalter ist das Kulturamt Stockach, die Bewirtung sowie die technische Betreuung vor Ort übernimmt die Vereinsgemeinschaft Espasingen.Mit dem Untertitel „Regional“ erweitert das Kulturamt Stockach mit dieser Veranstaltung seine diesjährige Kleinkunstreihe. Das Programm schlägt mit viel Witz und Musikalität einen Bogen von den 1920er- zu den 2020er-Jahren: Tango, Krokodile, Pakete und Schaumküsse – bekannte Lieder treffen auf überraschende Texte, spritzig und pointiert präsentiert.Tickets sind im Alten Forstamt sowie online [&hellip;]
PRIORITY:1
CLASS:PUBLIC
BEGIN:VALARM
TRIGGER:-PT10080M
ACTION:DISPLAY
DESCRIPTION:Reminder
END:VALARM
END:VEVENT
END:VCALENDAR
