BEGIN:VCALENDAR
VERSION:2.0
METHOD:PUBLISH
BEGIN:VEVENT
DTSTART:20260314T200000Z
LOCATION:Club Frau Berger
TRANSP: OPAQUE
SEQUENCE:0
UID:
DTSTAMP:20260420T082956Z
SUMMARY:Bla Bla Comedy Ulm
DESCRIPTION:Ulm, auch 2026 sind wieder daDie besten Comedians Deutschlands – bekannt aus Social Media &amp; TV!Einlass 19 Uhr, Start 20 UhrHol dir dein Ticket &amp; lach dich weg!Tickets und Infos unter https://www.blabla-comedy.de/Tickets gibt es auch auf eventim oder ulmtickets
PRIORITY:1
CLASS:PUBLIC
BEGIN:VALARM
TRIGGER:-PT10080M
ACTION:DISPLAY
DESCRIPTION:Reminder
END:VALARM
END:VEVENT
END:VCALENDAR
