BEGIN:VCALENDAR
VERSION:2.0
METHOD:PUBLISH
BEGIN:VEVENT
DTSTART:20260314T190000Z
LOCATION:Gemeindehalle Tiefenbach
TRANSP: OPAQUE
SEQUENCE:0
UID:
DTSTAMP:20260421T083013Z
SUMMARY:Konzert &#8222;Zwischen Heimat und Meer&#8220;
DESCRIPTION:Konzert &#8222;Zwischen Heimat und Meer&#8220; der Musikvereinigung Tiefenbach
PRIORITY:1
CLASS:PUBLIC
BEGIN:VALARM
TRIGGER:-PT10080M
ACTION:DISPLAY
DESCRIPTION:Reminder
END:VALARM
END:VEVENT
END:VCALENDAR
