BEGIN:VCALENDAR
VERSION:2.0
METHOD:PUBLISH
BEGIN:VEVENT
DTSTART:20260313T193000Z
LOCATION:Kornhaus Ulm
TRANSP: OPAQUE
SEQUENCE:0
UID:
DTSTAMP:20260421T095356Z
SUMMARY:Int. OCEAN FILM TOUR Vol. 12
DESCRIPTION:Faszinierende Geschichten aus der Welt der Ozeane: Das zweistündige Programm der INTERNATIONAL OCEAN FILM TOUR Vol. 12 zeigt Menschen, die das Meer lieben und alles dafür tun, diesen einzigartigen Lebensraum zu bewahren. Seit über zehn Jahren begeistert die Filmtour ihr Publikum mit einem unverwechselbaren Mix aus Filmen über alle Arten von Wassersport und Meeresabenteuern – und liefert mit jedem Programm spannende Geschichten, Inspiration und unvergessliche Denkanstöße.
PRIORITY:1
CLASS:PUBLIC
BEGIN:VALARM
TRIGGER:-PT10080M
ACTION:DISPLAY
DESCRIPTION:Reminder
END:VALARM
END:VEVENT
END:VCALENDAR
