BEGIN:VCALENDAR
VERSION:2.0
METHOD:PUBLISH
BEGIN:VEVENT
DTSTART:20260315T110000Z
LOCATION:Höristrandhalle Wangen
TRANSP: OPAQUE
SEQUENCE:0
UID:
DTSTAMP:20260420T084518Z
SUMMARY:Öhninger Gesundheitstage
DESCRIPTION:Ein besonderer Schwerpunkt liegt auf gesunder Ernährung: In der „Gesunden Küche“ mit Live-Show-Cooking zeigen Fachleute, wie sich Genuss und ausgewogene Ernährung ideal verbinden lassen. Weitere Programmpunkte widmen sich der Palliativversorgung und der Frage, welche Art der Krankenversicherung – privat oder gesetzlich – individuell die beste Wahl sein kann.Auch mentale und körperliche Balance stehen im Mittelpunkt. Themen wie Alltagsstress bewältigen, Ergotherapie als Weg zu mehr Ausgeglichenheit sowie Männergesundheit bieten wertvolle Impulse für ein gesundes Leben. Wer seine Stimme stärken möchte, erhält Tipps, wie man dauerhaft gut bei Stimme bleibt. Zudem wird eine kostenlose Testosteronbestimmung angeboten.Ein weiterer Schwerpunkt ist der Vortrag „Stille [&hellip;]
PRIORITY:1
CLASS:PUBLIC
BEGIN:VALARM
TRIGGER:-PT10080M
ACTION:DISPLAY
DESCRIPTION:Reminder
END:VALARM
END:VEVENT
END:VCALENDAR
