BEGIN:VCALENDAR
VERSION:2.0
METHOD:PUBLISH
BEGIN:VEVENT
DTSTART:20260319T190000Z
LOCATION:Tennisheim Legau
TRANSP: OPAQUE
SEQUENCE:0
UID:
DTSTAMP:20260422T100142Z
SUMMARY:Mitgliederversammlung des Tennisclub Legau e. V.
DESCRIPTION:Mitgliederversammlung des Tennisclub Legau e. V.
PRIORITY:1
CLASS:PUBLIC
BEGIN:VALARM
TRIGGER:-PT10080M
ACTION:DISPLAY
DESCRIPTION:Reminder
END:VALARM
END:VEVENT
END:VCALENDAR
