BEGIN:VCALENDAR
VERSION:2.0
METHOD:PUBLISH
BEGIN:VEVENT
DTSTART:20260316T143000Z
LOCATION:Altstadthaus Kempten
TRANSP: OPAQUE
SEQUENCE:0
UID:
DTSTAMP:20260421T095356Z
SUMMARY:Das Kunstmärchen Romantik
DESCRIPTION:Die Kunstmärchen haben mit den Volksmärchen vieles gemeinsam: Das Übernatürliche ist hier wie dort normal, Gut und Böse sind meist klar verteilt und eingebettet in eine Art Moral. Aber die Handlung ist nicht geradlinig erzählt, es gibt Nebenhandlungen und Rückblenden; die Sprache ist komplizierter; es finden sich Orts- und Zeitangaben. Auch sind die Figuren komplexer und psychologisiert angelegt. Typisch für die Epoche der Romantik ist die Verwendung des Stilmittels der Ironie. Das hängt mit dem wichtigsten Unterschied zusammen, der die Modernität des Kunstmärchens begründet: Geschildert wird nicht ein geschlossenes Weltbild, sondern eine fragmentarisch erfahrbare, problematische Welt, in der sich ein [&hellip;]
PRIORITY:1
CLASS:PUBLIC
BEGIN:VALARM
TRIGGER:-PT10080M
ACTION:DISPLAY
DESCRIPTION:Reminder
END:VALARM
END:VEVENT
END:VCALENDAR
