BEGIN:VCALENDAR
VERSION:2.0
METHOD:PUBLISH
BEGIN:VEVENT
DTSTART:20260313T190000Z
LOCATION:Komödienhaus Biberach
TRANSP: OPAQUE
SEQUENCE:0
UID:
DTSTAMP:20260421T100201Z
SUMMARY:Jess Jochimsen: „Kabarett. Songs. Dias.“
DESCRIPTION:Jess Jochimsen will mit seinem Programm raus aus seinem Gedankenkarussell. Zumindest für einen Abend. Und nachschauen, was die Pandemie übriggelassen hat. Also macht der Freiburger Kabarettist und Autor Inventur im Kopf und sucht nach den Geschichten, die im Radau der letzten Zeit untergegangen sind.
PRIORITY:1
CLASS:PUBLIC
BEGIN:VALARM
TRIGGER:-PT10080M
ACTION:DISPLAY
DESCRIPTION:Reminder
END:VALARM
END:VEVENT
END:VCALENDAR
