BEGIN:VCALENDAR
VERSION:2.0
METHOD:PUBLISH
BEGIN:VEVENT
DTSTART:20260425T100000Z
LOCATION:Stadtsaal Buchloe
TRANSP: OPAQUE
SEQUENCE:0
UID:
DTSTAMP:20260421T082853Z
SUMMARY:Kinderbasar der Storchenspatzen
DESCRIPTION:Kinderbasar der StorchenspatzenEinlass für Schwangere mit Begleitperson bereits um 09:30 UhrANGEBOTEN WIRD• Aktuelle, saubere, gut erhaltene Kinderkleidung 50 bis 176( Saison Frühling / Sommer )• Kinderschuhe bis Größe 40• Spielzeug, Bücher, CDs• Baby-Zubehör und Ausstattung, Umstandsmode• Kinderwägen, Kinderfahrzeuge( funktionstüchtig )MIT Kuchenverkauf
PRIORITY:1
CLASS:PUBLIC
BEGIN:VALARM
TRIGGER:-PT10080M
ACTION:DISPLAY
DESCRIPTION:Reminder
END:VALARM
END:VEVENT
END:VCALENDAR
