BEGIN:VCALENDAR
VERSION:2.0
METHOD:PUBLISH
BEGIN:VEVENT
DTSTART:20260509T151100Z
LOCATION:Mehrzweckhalle Betzenweiler
TRANSP: OPAQUE
SEQUENCE:0
UID:
DTSTAMP:20260421T181744Z
SUMMARY:Konzert New Voices &#038; Teeny Voices
DESCRIPTION:Konzert New Voices &amp; Teeny Voices
PRIORITY:1
CLASS:PUBLIC
BEGIN:VALARM
TRIGGER:-PT10080M
ACTION:DISPLAY
DESCRIPTION:Reminder
END:VALARM
END:VEVENT
END:VCALENDAR
