BEGIN:VCALENDAR
VERSION:2.0
METHOD:PUBLISH
BEGIN:VEVENT
DTSTART:20260925T203000Z
LOCATION:Jazzclub Biberach
TRANSP: OPAQUE
SEQUENCE:0
UID:
DTSTAMP:20260421T100233Z
SUMMARY:Torsten Zwingenberger 4tet
DESCRIPTION:Torsten Zwingenberger ist in Biberach kein Unbekannter. Bereits zum dritten Mal bringt er Hauptstadtjazz in die kleine oberschwäbische Jazzmetropole.Mit seiner aufsehenerregenden Schlagtechnik „Drumming 5.1“ auf einem erweiterten Schlagzeug erzeugt er ein breites Spektrum unterschiedlichster Stimmungswelten in einem bunten Stilmix aus Modern Swing, Hardbop, Cooljazz, brasilianischen Rhythmen oder funkigem Souljazz. Gleichermaßen in speziellen Arrangements von Standards aus dem American Songbook oder in Eigenkompositionen der Bandmitglieder stellt er in seinem aktuellen Programm sein neuestes Album „Best Boost“ vor.Seine Mitmusiker und deren frühere Bandkollegen lesen sich ebenfalls wie ein „Who’s Who“ des Jazz. Patrick Braun, Kenneth Berkel und Carmelo Leotta musizierten mit Ack [&hellip;]
PRIORITY:1
CLASS:PUBLIC
BEGIN:VALARM
TRIGGER:-PT10080M
ACTION:DISPLAY
DESCRIPTION:Reminder
END:VALARM
END:VEVENT
END:VCALENDAR
