BEGIN:VCALENDAR
VERSION:2.0
METHOD:PUBLISH
BEGIN:VEVENT
DTSTART:20261003T090000Z
LOCATION:V-Markt Gelände Füssen
TRANSP: OPAQUE
SEQUENCE:0
UID:
DTSTAMP:20260421T111519Z
SUMMARY:Floh- und Trödelmarkt
DESCRIPTION:Stöbern, Handeln und Gleichgesinnte in einer außergewöhnlichen Umgebung und einmaligen Atmosphäre treffen: Das bietet der Trödelmarkt auf dem V-Markt Gelände in Füssen.Hier finden Schnäppchenjäger und Sammlerfreunde ein vielfältiges Angebot.Ein Trödelmarkt ist ein wunderbares Zusammenspiel aus Spaß, Sparen und originellen Sachen.Der Trödelmarkt auf dem Freigelände des V-Marktes in Füssen ist der Treffpunkt für Liebhaber alter und gebrauchter Dinge und auch neugierige Schnäppchenliebhaber kommen voll auf ihre Kosten.Info unter www.fetzer-veranstaltungen.de und per Telefon: +49 8323 967414.
PRIORITY:1
CLASS:PUBLIC
BEGIN:VALARM
TRIGGER:-PT10080M
ACTION:DISPLAY
DESCRIPTION:Reminder
END:VALARM
END:VEVENT
END:VCALENDAR
