BEGIN:VCALENDAR
VERSION:2.0
METHOD:PUBLISH
BEGIN:VEVENT
DTSTART:20260507T193000Z
LOCATION:Theater am Espach Babenhausen
TRANSP: OPAQUE
SEQUENCE:0
UID:
DTSTAMP:20260421T101452Z
SUMMARY:>>Am Ende vorn&lt;&lt; Django Asül gastiert im Theater Am Espach
DESCRIPTION:Eintritt: 25,-€ Seine Jahresrückblicke sind längst Kult. So wie seine alljährlichen Maibockreden im Hofbräuhaus längst legendär sind. Aber wenn Django Asül ein neues Bühnenprogramm zimmert, geht es nicht um das alltägliche Kleinklein in Politik und Gesellschaft, sondern um die großen Themen. Aktuell zu sein reicht da bei weitem nicht. Er blickt nicht nur auf das Hier und Jetzt, sondern gerne auch mal auf das Woanders und Später. Sich selber treu bleiben und gleichzeitig sich konsequent weiterentwickeln – das sind die Eckpfeiler seines Schaffens. Freuen Sie sich auf zwei Stunden, in denen jeder Nebensatz das Zeug zum Hauptsatz hat.
PRIORITY:1
CLASS:PUBLIC
BEGIN:VALARM
TRIGGER:-PT10080M
ACTION:DISPLAY
DESCRIPTION:Reminder
END:VALARM
END:VEVENT
END:VCALENDAR
