BEGIN:VCALENDAR
VERSION:2.0
METHOD:PUBLISH
BEGIN:VEVENT
DTSTART:20260514T145400Z
LOCATION:Messe Friedrichshafen
TRANSP: OPAQUE
SEQUENCE:0
UID:
DTSTAMP:20260421T211453Z
SUMMARY:Tuning World Bodensee 2026
DESCRIPTION:Hier trifft Leidenschaft auf Business. Die Tuning World Bodensee ist die perfekte Bühne, um Marken erlebbar zu machen, neue Kunden zu gewinnen und bestehende Netzwerke zu stärken.  Sie ist Europas größtes Messe-Event für Auto-Tuning, Lifestyle und Club-Szene. Die Veranstaltung belegt mit über 1000 Showcars das komplette Messegelände – inklusive aller Freigelände. Und das mitten in einer der schönsten und kaufkräftigsten Regionen Europas.Nach dem aktuellen Besucherrekord von 112.000 begeisterten Tuning- und Auto-Fans starten wir 2026 mit frischer Energie und neuem Team weiter durch! Freut Euch auf eine komplett neue Hallenanordnung, die Zusammenlegung der gewerblichen Bereiche, neue Themen und atemberaubende Shows. Zahlreiche ausstellende [&hellip;]
PRIORITY:1
CLASS:PUBLIC
BEGIN:VALARM
TRIGGER:-PT10080M
ACTION:DISPLAY
DESCRIPTION:Reminder
END:VALARM
END:VEVENT
END:VCALENDAR
