BEGIN:VCALENDAR
VERSION:2.0
METHOD:PUBLISH
BEGIN:VEVENT
DTSTART:20260512T171400Z
LOCATION:Königsplatz Kempten
TRANSP: OPAQUE
SEQUENCE:0
UID:
DTSTAMP:20260419T142941Z
SUMMARY:Himmelfahrtsmarkt in Kempten: 08.05. &#8211; 17.05.2026
DESCRIPTION:Zweimal im Jahr findet in Kempten ein Vergnügungsmarkt auf dem Königsplatz statt: im Frühjahr der &#8222;Himmelfahrtsmarkt&#8220; und im Herbst der &#8222;Kathreinemarkt&#8220;. Täglich von 11.00 Uhr bis 22.00 Uhr.
PRIORITY:1
CLASS:PUBLIC
BEGIN:VALARM
TRIGGER:-PT10080M
ACTION:DISPLAY
DESCRIPTION:Reminder
END:VALARM
END:VEVENT
END:VCALENDAR
