BEGIN:VCALENDAR
VERSION:2.0
METHOD:PUBLISH
BEGIN:VEVENT
DTSTART:20260523T173600Z
LOCATION:Hildegardplatz Kempten
TRANSP: OPAQUE
SEQUENCE:0
UID:
DTSTAMP:20260422T013400Z
SUMMARY:Allgäuer Streetfood Markt &#8211; Pfingsten Spezial &#8211; Kempten
DESCRIPTION:STREETFOOD MARKT KEMPTEN – KLECKERN ERLAUBT!Der Hildegardplatz wird wieder zum Treffpunkt für alle Genießer!Am Pfingstwochenende vom 23.–25. Mai verwandelt sich der Platz mitten in Kempten in ein buntes Streetfood-Paradies mit Düften aus aller Welt, Live-Musik und entspannter Sommeratmosphäre.Schlendert mit Freunden oder Familie über den Markt, probiert euch durch internationale Spezialitäten, genießt ein kühles Getränk und feiert mit uns den Start in die warme Jahreszeit.Und das Beste:Der Eintritt ist wie immer FREI!━━━━━━━━━━━━━━━ÖFFNUNGSZEITENSamstag, 23.05.17:00 – 23:00 UhrSonntag, 24.05.11:00 – 22:00 UhrMontag, 25.05.11:00 – 19:00 UhrHildegardplatz, Kempten(direkt nach dem Wochenmarkt)━━━━━━━━━━━━━━━Kulinarische WeltreiseUnsere Streetfood Artists bringen wieder außergewöhnliche Spezialitäten aus aller Welt nach Kempten. Freut [&hellip;]
PRIORITY:1
CLASS:PUBLIC
BEGIN:VALARM
TRIGGER:-PT10080M
ACTION:DISPLAY
DESCRIPTION:Reminder
END:VALARM
END:VEVENT
END:VCALENDAR
