BEGIN:VCALENDAR
VERSION:2.0
METHOD:PUBLISH
BEGIN:VEVENT
DTSTART:20260724T180000Z
LOCATION:Rathausplatz Sonthofen
TRANSP: OPAQUE
SEQUENCE:0
UID:
DTSTAMP:20260422T153512Z
SUMMARY:Allgäuer Streetfood Markt &#8211; Sonthofen &#8211; Am Rathausplatz
DESCRIPTION:STREETFOOD MARKT SONTHOFEN – KLECKERN ERLAUBT!Der **Rathausplatz in Sonthofen** wird wieder zum Treffpunkt für alle Genießer!Am **letzten Juli-Wochenende vom 24. &#8211; 26. Juli 2026 verwandelt sich die südlichste Stadt Deutschlands in ein Paradies für Streetfood-Fans.Freut euch auf internationale Spezialitäten, Live-Musik, entspannte Sommeratmosphäre und ein Wochenende voller Genuss. Schlendert mit Freunden oder Familie über den Markt, probiert euch durch die Foodtrucks und genießt dazu ein kühles Getränk.**Der Eintritt ist wie immer frei!**━━━━━━━━━━━━━━━**ÖFFNUNGSZEITEN**Freitag, 24.07.12:00 – 22:00 UhrSamstag, 25.07.11:00 – 22:00 UhrSonntag, 26.07.11:00 – 19:00 Uhr**Rathausplatz – 87527 Sonthofen**━━━━━━━━━━━━━━━**Kulinarische Weltreise**Unsere Streetfood Artists bringen wieder Spezialitäten aus aller Welt nach Sonthofen. Freut euch unter [&hellip;]
PRIORITY:1
CLASS:PUBLIC
BEGIN:VALARM
TRIGGER:-PT10080M
ACTION:DISPLAY
DESCRIPTION:Reminder
END:VALARM
END:VEVENT
END:VCALENDAR
