BEGIN:VCALENDAR
VERSION:2.0
METHOD:PUBLISH
BEGIN:VEVENT
DTSTART:20260906T181300Z
LOCATION:Hildegardplatz Kempten
TRANSP: OPAQUE
SEQUENCE:0
UID:
DTSTAMP:20260422T213420Z
SUMMARY:1. Lateinamerikanisches Food &#038; Music Festival &#8211; Kempten
DESCRIPTION:KLECKERN ERLAUBT – DAS ERSTE LATEINAMERIKANISCHE STREETFOOD FESTIVAL IN KEMPTENDer Hildegardplatz wird dieses Jahr zum Treffpunkt für alle Fans der lateinamerikanischen Küche!Am 5. und 6. September 2026 verwandelt sich der Platz mitten in Kempten in ein buntes Festival voller Aromen, Musik und Lebensfreude aus Lateinamerika.Freut euch auf ein Wochenende mit Spezialitäten aus Mexiko, Spanien, Brasilien, Argentinien, Peru und vielen weiteren Ländern. Schlendert mit Freunden oder Familie über den Markt, probiert euch durch die vielfältigen Gerichte und genießt dazu ein kühles Getränk und lateinamerikanische Musik.Sommerliche Atmosphäre, gute Laune und kulinarische Highlights sind garantiert.DER EINTRITT IST WIE IMMER FREI━━━━━━━━━━━━━━━ÖFFNUNGSZEITENSamstag, 05.09.17:00 – 22:00 [&hellip;]
PRIORITY:1
CLASS:PUBLIC
BEGIN:VALARM
TRIGGER:-PT10080M
ACTION:DISPLAY
DESCRIPTION:Reminder
END:VALARM
END:VEVENT
END:VCALENDAR
