BEGIN:VCALENDAR
VERSION:2.0
METHOD:PUBLISH
BEGIN:VEVENT
DTSTART:20260501T100000Z
LOCATION:Schloss Zeil
TRANSP: OPAQUE
SEQUENCE:0
UID:
DTSTAMP:20260421T112536Z
SUMMARY:Oldtimertreffen auf Schloss Zeil
DESCRIPTION:24. Oldtimertreffen auf Schloss Zeil am 1. Mai 2026Am 1. Mai 2026 richtet der Motorsport-Club Leutkirch sein 24. Oldtimertreffen auf dem historischen Gelände von Schloss Zeil aus.Wieder werden rund 600 Fahrzeuge sowie etwa 2.500 Besucher erwartet.Zu sehen sind Oldtimer aus nahezu allen Bereichen –Autos, Traktoren, Motorräder und LKWs. Die Teilnehmer kommen aus dem süddeutschen Raum, sowie aus Österreich und der Schweiz. Aufgrund der besonderen Lage und der begrenzten Stellflächen zählt das Treffen seit Jahren zu den beliebtesten Veranstaltungen der Region.Ein Highlight 2026 ist die Ausstellung von Manfred Stör vom elektrotechnischen Museum. Präsentiert werden historische Geräte rund um das Thema „Kaffee“ [&hellip;]
PRIORITY:1
CLASS:PUBLIC
BEGIN:VALARM
TRIGGER:-PT10080M
ACTION:DISPLAY
DESCRIPTION:Reminder
END:VALARM
END:VEVENT
END:VCALENDAR
