BEGIN:VCALENDAR
VERSION:2.0
METHOD:PUBLISH
BEGIN:VEVENT
DTSTART:20260718T100000Z
LOCATION:Orangerie und Hofgarten
TRANSP: OPAQUE
SEQUENCE:0
UID:
DTSTAMP:20260421T111228Z
SUMMARY:Sommerfrische im Fürstlichen Hofgarten
DESCRIPTION:Liebe Marktbesucher,freut euch auf einen Kunst-und Genusshandwerkermarkt mit liebevoll gestalteten Marktständen kleiner Manufakturen aus dem Umland. Das historische Ambiente lädt zum gemütlichen Verweilen bei einem kühlen Getränk oder einer feinen Tasse Kaffee ein. Für das kulinarische Angebot von herzhaft bis süß ist bestens gesorgt.Handgemachte Musik und ein kostenloses Rahmenprogramm begleiten den Tag und bieten Unterhaltung für alle, die gern zuhören, staunen oder einfach gemütlich dabeisitzen.Wir freuen uns, euch zur Sommerfrische 2026 begrüßen zu dürfen. Das Gelände ist über den Fritz-B. Busch-Weg barrierefrei zugänglich. Eine rollstuhlgerechte Toilette steht ebenfalls zur Verfügung.Eintritt: 2€/Person (ab 16 Jahren) inkl. 50% Ermäßigung im Automuseum am [&hellip;]
PRIORITY:1
CLASS:PUBLIC
BEGIN:VALARM
TRIGGER:-PT10080M
ACTION:DISPLAY
DESCRIPTION:Reminder
END:VALARM
END:VEVENT
END:VCALENDAR
