BEGIN:VCALENDAR
VERSION:2.0
METHOD:PUBLISH
BEGIN:VEVENT
DTSTART:20260425T090000Z
LOCATION:Oberschwabenhalle Ravensburg
TRANSP: OPAQUE
SEQUENCE:0
UID:
DTSTAMP:20260421T085322Z
SUMMARY:Ravensburger Pferdemarkt
DESCRIPTION:Pferdeliebhaber und Familien können sich auf ein besonderes Ereignis freuen: Am letzten Samstag im April findet an der Oberschwabenhalle in Ravensburg wieder der traditionelle Pferdemarkt statt. Der Pferdemarkt ist von 9 bis 15 Uhr geöffnet und verspricht ein abwechslungsreiches Programm rund um Pferde, Reit- und Fahrsport und ländliches Leben.Neben der Präsentation verschiedener Pferderassen bietet der Markt auch zahlreiche Verkaufsstände, an denen Zubehör für Reiter und Tiere erhältlich ist. Ein besonderes Highlight ist der integrierte Reiter-Flohmarkt, bei dem Besucher gebrauchte Ausrüstung zu günstigen Preisen erwerben können.Der Eintritt zur Veranstaltung ist frei, was den Pferdemarkt besonders attraktiv für Familien und spontane Besucher [&hellip;]
PRIORITY:1
CLASS:PUBLIC
BEGIN:VALARM
TRIGGER:-PT10080M
ACTION:DISPLAY
DESCRIPTION:Reminder
END:VALARM
END:VEVENT
END:VCALENDAR
