BEGIN:VCALENDAR
VERSION:2.0
METHOD:PUBLISH
BEGIN:VEVENT
DTSTART:20260425T200000Z
LOCATION:Zehntscheuer Ravensburg
TRANSP: OPAQUE
SEQUENCE:0
UID:
DTSTAMP:20260421T100139Z
SUMMARY:Kai Strauss &#038; the Electric Blues Allstars
DESCRIPTION:Der Blues ist längst eine globale Kunstform und wird von Musikern gepflegt, die der langen Geschichte des Genres ihre individuelle Seele geben. Der Sänger und Gitarrist Kai Strauss gehört zu diesem Kreis. „Schon als Teenager war ich von der Magie eines Buddy Guy, Albert King oder der Vaughan Brothers infiziert“, sagt der musikalisch in Deutschlands Blueshochburg Osnabrück sozialisierte Musiker. Seit seinem professionellen Start 1995 hat sich Strauss als Musiker voller Kraft und Originalität erwiesen. Mehrere German Blues Awards bestätigen seine Relevanz als Bandleader, aber auch als Sideman ist er gefragt und spielt immer wieder mit US-Größen.Stets gelingt es ihm die [&hellip;]
PRIORITY:1
CLASS:PUBLIC
BEGIN:VALARM
TRIGGER:-PT10080M
ACTION:DISPLAY
DESCRIPTION:Reminder
END:VALARM
END:VEVENT
END:VCALENDAR
