BEGIN:VCALENDAR
VERSION:2.0
METHOD:PUBLISH
BEGIN:VEVENT
DTSTART:20260424T210000Z
LOCATION:GOLD
TRANSP: OPAQUE
SEQUENCE:0
UID:
DTSTAMP:20260421T094822Z
SUMMARY:Madhouse Express
DESCRIPTION:Explosiver mix aus rohem indie-rock, garage und psychedelischen einflüssen.24.04.26 / 21hEinlass: 20hTickets und Infos unter https://www.dasgold.org/madhouseexpress.html
PRIORITY:1
CLASS:PUBLIC
BEGIN:VALARM
TRIGGER:-PT10080M
ACTION:DISPLAY
DESCRIPTION:Reminder
END:VALARM
END:VEVENT
END:VCALENDAR
