BEGIN:VCALENDAR
VERSION:2.0
METHOD:PUBLISH
BEGIN:VEVENT
DTSTART:20260424T190000Z
LOCATION:Schlosskirche St. Leonhard
TRANSP: OPAQUE
SEQUENCE:0
UID:
DTSTAMP:20260421T083150Z
SUMMARY:Vom Tanz des Lebens und Erwache! Konzertlesung
DESCRIPTION:Ein poetisches Zusammenspiel von Musik und Wort.Wenn Wort zu Musik wird und Musik zu Wort, dann kann etwas Zauberhaftes entstehen! Lassen Sie sich berühren und begleiten auf eine poetisch-musikalische Reise, die zu Ihnen selber führt.Die selbst verfassten, bildhaften Texte der Erzählerin verbinden und ergänzen sich im Wechsel mit eigens arrangierten und adaptierten Musikstücken der beiden Violinistinnen.&nbsp;
PRIORITY:1
CLASS:PUBLIC
BEGIN:VALARM
TRIGGER:-PT10080M
ACTION:DISPLAY
DESCRIPTION:Reminder
END:VALARM
END:VEVENT
END:VCALENDAR
