BEGIN:VCALENDAR
VERSION:2.0
METHOD:PUBLISH
BEGIN:VEVENT
DTSTART:20260515T170000Z
LOCATION:friedensräume
TRANSP: OPAQUE
SEQUENCE:0
UID:
DTSTAMP:20260419T143008Z
SUMMARY:Kreativwettbewerb „grenzenlos“. Prämierung mit Vernissage zur Sonderausstellung
DESCRIPTION:Für das 25jährige Jubiläum haben die friedens räume einen Kreativwettbewerb an Schulen in Südschwaben und Augsburg ausgelobt zum Thema „grenzenlos“. Ist grenzenloser Frieden möglich? Wie könnte er aussehen? Inspiriert vom Liedtext „Grenzen&#8220; von Dota Kehr waren Schülerinnen und Schüler ab der 8. Klassenstufe eingeladen, ihre kreative Auseinandersetzung mit diesen Fragen in Bild und Text einzureichen. Die Ergebnisse des Wettbewerbs werden am 15. Mai prämiert und im Rahmen einer Sonderausstellung in den friedens räumen präsentiert. Die Ausstellung ist bis zum 20. Mai 2026 zu sehen.
PRIORITY:1
CLASS:PUBLIC
BEGIN:VALARM
TRIGGER:-PT10080M
ACTION:DISPLAY
DESCRIPTION:Reminder
END:VALARM
END:VEVENT
END:VCALENDAR
