BEGIN:VCALENDAR
VERSION:2.0
METHOD:PUBLISH
BEGIN:VEVENT
DTSTART:20260521T193000Z
LOCATION:friedensräume
TRANSP: OPAQUE
SEQUENCE:0
UID:
DTSTAMP:20260421T085403Z
SUMMARY:Wenn Grundrechte bröckeln – Europas neue Asylpolitik
DESCRIPTION:Mit der Reform des Gemeinsamen Europäischen Asylsystems (GEAS) geraten fundamentale Rechte ins Wanken. Das Recht auf Asyl wird ausgehöhlt, das Recht auf Leben und Schutz vor Gefahr durch immer gefährlichere Fluchtrouten bedroht. Menschen werden in gefängnisähnlichen Lagern monatelang eingesperrt. Wer aus einem sogenannten „sicheren Herkunftsstaat“ kommt oder über einen vermeintlich „sicheren Drittstaat“ einreist, hat kaum mehr Chancen, ein individuelles Recht auf Asyl durchzusetzen. Diese Abschottungspolitik fordert immer neue Opfer – im Mittelmeer, in der Sahara und an den Außengrenzen Europas. Der Kommunikationswissenschaftler Dr. Kerem Schamberger (medico international) berichtet von seinen Reisen an die Außengrenzen: von Gewalt, Militarisierung und tödlicher Abschottung. [&hellip;]
PRIORITY:1
CLASS:PUBLIC
BEGIN:VALARM
TRIGGER:-PT10080M
ACTION:DISPLAY
DESCRIPTION:Reminder
END:VALARM
END:VEVENT
END:VCALENDAR
