BEGIN:VCALENDAR
VERSION:2.0
METHOD:PUBLISH
BEGIN:VEVENT
DTSTART:20260502T180000Z
LOCATION:Johanneskirche
TRANSP: OPAQUE
SEQUENCE:0
UID:
DTSTAMP:20260421T141812Z
SUMMARY:THE BEATLES &#8211; LIVE LYRICS
DESCRIPTION:Eine Hommage an die Fab Four, Live Lyrics &#8211; Texte und Musik mit dem Duo Twofold &amp; Hergatz liest.Eintritt frei: Spende erbetenMehr Infos: www.2fold-duo.de&nbsp;
PRIORITY:1
CLASS:PUBLIC
BEGIN:VALARM
TRIGGER:-PT10080M
ACTION:DISPLAY
DESCRIPTION:Reminder
END:VALARM
END:VEVENT
END:VCALENDAR
