BEGIN:VCALENDAR
VERSION:2.0
METHOD:PUBLISH
BEGIN:VEVENT
DTSTART:20260503T150000Z
LOCATION:Deutsches Hutmuseum, Lindenberg
TRANSP: OPAQUE
SEQUENCE:0
UID:
DTSTAMP:20260421T141838Z
SUMMARY:Sonntagsführung im Deutschen Hutmuseum
DESCRIPTION:Lernen Sie die außergewöhnliche Geschichte der Hutstadt Lindenberg kennen, erfahren Sie, wie ein Filzhut und ein Hut aus Strohborten gefertigt werden und spazieren Sie durch 300 Jahre Hutmodegeschichte.Mehr Infos: https://www.deutsches-hutmuseum.de/min. Teilnehmerzahl: 2 Personenmax. Teilnehmerzahl: 20 PersonenAnmeldungDeutsches Hutmuseum: 08381/92843-20Kosten: 5 € Führung + erm. Eintritt 7 €&nbsp;
PRIORITY:1
CLASS:PUBLIC
BEGIN:VALARM
TRIGGER:-PT10080M
ACTION:DISPLAY
DESCRIPTION:Reminder
END:VALARM
END:VEVENT
END:VCALENDAR
