BEGIN:VCALENDAR
VERSION:2.0
METHOD:PUBLISH
BEGIN:VEVENT
DTSTART:20260418T133000Z
LOCATION:Rapunzel Welt
TRANSP: OPAQUE
SEQUENCE:0
UID:
DTSTAMP:20260420T084520Z
SUMMARY:13:30 Uhr Führung durch die Rapunzel Welt
DESCRIPTION:Willst du mehr zur Bauweise der Rapunzel Welt erfahren? Oder zum märchenhaften Garten mit seinem Tropenhaus?In unseren Führungen zeigen wir dir die gesamte Rapunzel Welt. Erfahre mehr über die Vision, die außergewöhnliche Architektur, die Kaffeerösterei und die Geschichte von Rapunzel. Selbstverständlich ist auch eine Verkostung der Rapunzel und Zwergenwiese Produkte Teil der Führung. Wie wäre es außerdem mit leckerem Bio-Essen und einem Kaffee in der Rapunzel Welt?Du hast die Möglichkeit ein Kombi-Ticket für unsere Führung &amp; unser Mitmach-Museum bequem direkt online zu bestellen. Tausch dein Ticket ganz einfach vor Ort an der Rezeption gegen eine Eintrittskarte für unser Museum ein.&nbsp;Wir behalten uns das [&hellip;]
PRIORITY:1
CLASS:PUBLIC
BEGIN:VALARM
TRIGGER:-PT10080M
ACTION:DISPLAY
DESCRIPTION:Reminder
END:VALARM
END:VEVENT
END:VCALENDAR
