BEGIN:VCALENDAR
VERSION:2.0
METHOD:PUBLISH
BEGIN:VEVENT
DTSTART:20260604T200000Z
LOCATION:KulturWIRtschaft in der Allgäuhalle
TRANSP: OPAQUE
SEQUENCE:0
UID:
DTSTAMP:20260419T174115Z
SUMMARY:Klecks.Live _ Francel Collins Duo
DESCRIPTION:Die klecks.Live-Sommerkonzerte von Juni bis August gestaltet einer der renommiertesten Jazz- und Weltmusiker Bayerns und Deutschlands: Mulo Francel. Der Mastermind der beinahe Kultstatus genießenden Band „Quadro Nuevo“ präsentiert in drei völlig unterschiedlichen Formationen seine breit gefächerte Musikalität. Mulo Francel, der Mann mit dem „sinnlichsten Saxophon-Ton Europas“ (Kulturnews), mehrfacher ECHO- und German-Jazz-Award-Gewinner, bringt zum Auftakt einen „feurigen Musiker“ (Washington Post) mit, Tim Collins. Seine herausragende Kunst, dieses „Feuer“, stellte Collins in der KulturWIRtschaft bereits mit dem Christian Elsässer Quintett unter Beweis.Die beiden Musiker lernten sich bei zahlreichen Tourneen in Europa und in den USA mit Mulo Francels Band „Quadro Nuevo“ kennen.Zusammen treffen [&hellip;]
PRIORITY:1
CLASS:PUBLIC
BEGIN:VALARM
TRIGGER:-PT10080M
ACTION:DISPLAY
DESCRIPTION:Reminder
END:VALARM
END:VEVENT
END:VCALENDAR
