BEGIN:VCALENDAR
VERSION:2.0
METHOD:PUBLISH
BEGIN:VEVENT
DTSTART:20260702T200000Z
LOCATION:KulturWIRtschaft in der Allgäuhalle
TRANSP: OPAQUE
SEQUENCE:0
UID:
DTSTAMP:20260419T174633Z
SUMMARY:Klecks.Live _ Mulo Francel &amp; Die Drahtzieher
DESCRIPTION:Die klecks.Live-Sommerkonzerte von Juni bis August gestaltet einer der renommiertesten Jazz- und Weltmusiker Bayerns und Deutschlands: Mulo Francel. Der Mastermind der beinahe Kultstatus genießenden Band „Quadro Nuevo“ präsentiert in drei völlig unterschiedlichen Formationen seine breit gefächerte Musikalität. Mulo Francel trifft das junge Ensemble „Die Drahtzieher“ mit dem gemeinsamen Programm „My Gypsy Heart“. Darin präsentieren sie Swing Manouche, die Musik der europäischen Gypsy-Traditionen sowie südamerikanische Boleros in ihrer ganzen klanglichen Intensität. Spannungsreiche Eigenkompositionen stehen im Wechsel mit ausgewählten Klassikern des Genres und instrumentalen Perlen des großen Django Reinhardt.Der Sound der „Drahtzieher“ verwebt kunstvoll die Einflüsse dreier weit gereister junger Musiker. In fantasievollen, [&hellip;]
PRIORITY:1
CLASS:PUBLIC
BEGIN:VALARM
TRIGGER:-PT10080M
ACTION:DISPLAY
DESCRIPTION:Reminder
END:VALARM
END:VEVENT
END:VCALENDAR
