BEGIN:VCALENDAR
VERSION:2.0
METHOD:PUBLISH
BEGIN:VEVENT
DTSTART:20260806T200000Z
LOCATION:KulturWIRtschaft in der Allgäuhalle
TRANSP: OPAQUE
SEQUENCE:0
UID:
DTSTAMP:20260419T174115Z
SUMMARY:Klecks.Live _ Mulo Francel &amp; The Melody Sax
DESCRIPTION:Die klecks.Live-Sommerkonzerte von Juni bis August gestaltet einer der renommiertesten Jazz- und Weltmusiker Bayerns und Deutschlands: Mulo Francel. Der Mastermind der beinahe Kultstatus genießenden Band „Quadro Nuevo“ präsentiert in drei völlig unterschiedlichen Formationen seine breit gefächerte Musikalität. Aus der Faszination für die beschwingt optimistisch wirkende Musik der „Roaring Twenties“ nahm Francel eine Herausforderung an: Das Lächeln der Musik jener Zeit in einen modernen Kontext zu packen. Mit einem Team fabelhafter Musiker und mit einem Instrument, das in der populären Musik der 1920er-Jahre weit verbreitet war und plötzlich verschwand: Das C-Melody-Saxophon zeichnet sich durch seinen frivolen Klang aus. Fast zirkushaft, mit einem [&hellip;]
PRIORITY:1
CLASS:PUBLIC
BEGIN:VALARM
TRIGGER:-PT10080M
ACTION:DISPLAY
DESCRIPTION:Reminder
END:VALARM
END:VEVENT
END:VCALENDAR
