BEGIN:VCALENDAR
VERSION:2.0
METHOD:PUBLISH
BEGIN:VEVENT
DTSTART:20260501T190000Z
LOCATION:Dampfsäg Sontheim
TRANSP: OPAQUE
SEQUENCE:0
UID:
DTSTAMP:20260421T125418Z
SUMMARY:MAITANZ
DESCRIPTION:Am ersten Mai spielt die Kempt´ner Tanzlmusi zum Volkstanz in der Dampsäg auf.Die sechs jungen Musikanten umrahmen mit traditioneller, schwungvoller und gemütlicher Tanzlmusi und einem großen Repertoire aus Polkas, Boarischen, Walzern, Landlern und Märschen den Tanz in den Mai.Alle Tanzbegeisterten sind zu diesem Abend herzlich eingeladen.Die Tänze werden angeleitet von Kreisheimatpfleger Philipp Korda.Jeder kann mitmachen.Kommt vorbei, tanzt mit und genießt einen traditionellen bayerischen Abend in bester Gesellschaft.Beginn: 19:00 UhrEinlass &amp; Gastronomie: 17:30 UhrEintritt: 12,00 €, erm. 10,00 €&nbsp;
PRIORITY:1
CLASS:PUBLIC
BEGIN:VALARM
TRIGGER:-PT10080M
ACTION:DISPLAY
DESCRIPTION:Reminder
END:VALARM
END:VEVENT
END:VCALENDAR
