BEGIN:VCALENDAR
VERSION:2.0
METHOD:PUBLISH
BEGIN:VEVENT
DTSTART:20260508T200000Z
LOCATION:Dampfsäg Sontheim
TRANSP: OPAQUE
SEQUENCE:0
UID:
DTSTAMP:20260421T165821Z
SUMMARY:Quadro Nuevo
DESCRIPTION:30 Years around the World!Die mediterrane Leichtigkeit des Seins war immer schon prägend für die Musik von Quadro Nuevo: Tango und französische Valse Musette, ägäische Mythen-Melodien, waghalsige Fahrtenlieder entlang einer sonnenbeschienen Küstenstraße, orientalische Grooves, Brazilian Flavour und neapolitanische Gassenhauer fließen spielerisch ineinander.Quadro Nuevo gründete sich 1996 im Chiemgau. Die temperamentvollen Vollblut-Musiker touren seither durch die Länder dieser Welt und gaben rund 4.000 Konzerte. Ihre Ton-Poesien entstehen unterwegs.Die Band schöpft aus der Magie ausgedehnter Reisen – von den Gassen Baris über die Höhenzüge des Balkans bis zu den Farben Bangalores und den Nächten von Buenos Aires.Die Orte ihrer Auftritte sind so [&hellip;]
PRIORITY:1
CLASS:PUBLIC
BEGIN:VALARM
TRIGGER:-PT10080M
ACTION:DISPLAY
DESCRIPTION:Reminder
END:VALARM
END:VEVENT
END:VCALENDAR
