BEGIN:VCALENDAR
VERSION:2.0
METHOD:PUBLISH
BEGIN:VEVENT
DTSTART:20260501T223000Z
LOCATION:Melodrom
TRANSP: OPAQUE
SEQUENCE:0
UID:
DTSTAMP:20260421T125421Z
SUMMARY:Technodrom pres. Chrissyjeey
DESCRIPTION:Chrissyjeey, der aufstrebende Newcomer-DJ, hat sich mittlerweile erfolgreich in der Szene mit Technorap etabliert und erobert jedes Wochenende die Bühnen. Seine energiegeladenen Sets bringen nicht nur die Floors zum Beben, sondern sorgen für eine Stimmung, die man spüren kann. Er weiß genau, wie er das Publikum mitreißt und es zu einem Teil seiner Musik macht. Auf der Bühne ist er präsent, fühlt die Crowd und gibt ihr genau das, was sie braucht – pure Energie und Leidenschaft.🗓️: 01.05.2026📍:MelodromHardtrance/Bounce/HardtechnoLINEUP:CHRISSYJEEYB BABOORZLJGLOGSEE YOU ON THE DANCE FLOOR 💕Tickets und Infos unter https://www.melodrom.de/event/chrissyjeey/&nbsp;
PRIORITY:1
CLASS:PUBLIC
BEGIN:VALARM
TRIGGER:-PT10080M
ACTION:DISPLAY
DESCRIPTION:Reminder
END:VALARM
END:VEVENT
END:VCALENDAR
