BEGIN:VCALENDAR
VERSION:2.0
METHOD:PUBLISH
BEGIN:VEVENT
DTSTART:20260502T190000Z
LOCATION:Melodrom
TRANSP: OPAQUE
SEQUENCE:0
UID:
DTSTAMP:20260421T141838Z
SUMMARY:40 Jahre schwarzes Melodrom
DESCRIPTION:40 Jahre schwarzes Melodrom – Das JubiläumseventAm 2. Mai 2026 feiern wir im schwarzen Melodrom vier Jahrzehnte Clubgeschichte – mit einerNacht, die euch noch lange im Kopf bleibt. Lasst euch von drei außergewöhnlichen Live-Actsmitreißen und taucht ein in die besondere Atmosphäre unseres Jubiläums. Nach den Konzertensteigt die große Party mit sieben DJs bis in den Morgen.Einlass: ab 19:00 UhrKonzertbeginn: 19:45 UhrPartybeginn: ca. 23:15 UhrLive on StageBAGGER 258[:SITD:]KlangstabilDie große Jubiläums-PartyWenn der letzte Konzertton verklingt, beginnt die Nacht erst richtig: sieben Szene-DJsübernehmen das schwarze Melodrom und präsentieren das Beste der letzten 40 Jahre:&#8211; DJ Rauschi&#8211; DJ Dennis&#8211; DJ Arthur&#8211; DJ Reijix&#8211; Chris [&hellip;]
PRIORITY:1
CLASS:PUBLIC
BEGIN:VALARM
TRIGGER:-PT10080M
ACTION:DISPLAY
DESCRIPTION:Reminder
END:VALARM
END:VEVENT
END:VCALENDAR
