BEGIN:VCALENDAR
VERSION:2.0
METHOD:PUBLISH
BEGIN:VEVENT
DTSTART:20260509T042600Z
LOCATION:Sporthalle Scharenstetten
TRANSP: OPAQUE
SEQUENCE:0
UID:
DTSTAMP:20260421T181928Z
SUMMARY:Konzert des Gesangverein Scharenstetten
DESCRIPTION:Konzert des Gesangverein Scharenstetten
PRIORITY:1
CLASS:PUBLIC
BEGIN:VALARM
TRIGGER:-PT10080M
ACTION:DISPLAY
DESCRIPTION:Reminder
END:VALARM
END:VEVENT
END:VCALENDAR
