BEGIN:VCALENDAR
VERSION:2.0
METHOD:PUBLISH
BEGIN:VEVENT
DTSTART:20260513T100000Z
LOCATION:Lindenhalle Ehingen
TRANSP: OPAQUE
SEQUENCE:0
UID:
DTSTAMP:20260422T051011Z
SUMMARY:Das Klugscheißerchen
DESCRIPTION:Tina und Theo Theufel, mit einem T und zwei TH, sind zwei Geschwister, die immer alles besser wissen, egal bei welchem Thema. Vor ein paar Tagen sind sie mit ihrer Familie in ein altes Haus gezogen und fangen jetzt an, all seine Geheimnisse zu erforschen. Als sie den aufregenden Dachboden in das Deck eines großen Schiffes verwandeln und selber zu den „Schrecken der sechs Weltmeere“ werden, hören sie aus einer Bücherkiste eine Stimme: „Sieben Weltmeere! Es heißt sieben Weltmeere. Nicht sechs.“Das Klugscheißerchen weiß nämlich ganz viel und alles noch besser als Tina und Theo! Es ist nicht blau, sondern türkis, [&hellip;]
PRIORITY:1
CLASS:PUBLIC
BEGIN:VALARM
TRIGGER:-PT10080M
ACTION:DISPLAY
DESCRIPTION:Reminder
END:VALARM
END:VEVENT
END:VCALENDAR
