BEGIN:VCALENDAR
VERSION:2.0
METHOD:PUBLISH
BEGIN:VEVENT
DTSTART:20260509T083000Z
LOCATION:Innenstadt Biberach
TRANSP: OPAQUE
SEQUENCE:0
UID:
DTSTAMP:20260421T181815Z
SUMMARY:Internationaler Markt der Partnerstädte
DESCRIPTION:Der städtepartnerschaftliche Markt ist in den Musikfrühling der Biberacher Werbegemeinschaft eingebettet.Auf die Besucher warten Spezialitäten und Informationen aus allen Biberacher Partnerstädten und -regionen, also aus Valence (Frankreich), Asti (Italien), Telawi (Georgien), Schweidnitz (Polen), dem Tendring District (Großbritannien) und der mit Biberach befreundeten Kanalinsel Guernsey.Der Veranstalter und die Stadt Biberach erwarten dazu ihre Freunde aus Asti, Schweidnitz und Valence. Aber auch Guernsey, Telawi und der Tendring District werden vertreten sein. Mit dabei auch wieder der Verein Freunde der französischen Sprache e. V. mit Crêpes und einen kleinen französischen Bücherbasar.Jugendliche aus Schweidnitz werden zwischendurch mit kurzen Auftritten unterhalten.Da die Liebe durch den [&hellip;]
PRIORITY:1
CLASS:PUBLIC
BEGIN:VALARM
TRIGGER:-PT10080M
ACTION:DISPLAY
DESCRIPTION:Reminder
END:VALARM
END:VEVENT
END:VCALENDAR
