BEGIN:VCALENDAR
VERSION:2.0
METHOD:PUBLISH
BEGIN:VEVENT
DTSTART:20260509T110000Z
LOCATION:Innenstadt Biberach
TRANSP: OPAQUE
SEQUENCE:0
UID:
DTSTAMP:20260421T182033Z
SUMMARY:Musikfrühling
DESCRIPTION:Am Samstag, 09. Mai, von 11 bis 18 Uhr, gibt es wieder ein kunterbuntes Programm zum Hören und Sehen: Musik, Tanz und Aktion auf der Gass‘. Über 15 Standorte mit über 60 Musikgruppen und Tanzgruppen. Die Bandbreite umfasst von der Drehorgel bis zum Heavy Metal das gesamte Musikspektrum. Tolle Tanzgruppen sorgen wieder für Swing und gute Laune! Rund um den Marktplatz und bei den Musik-Standorten gibt es Leckeres zum Essen und Trinken. Viele Biberacher Geschäfte haben bis 18 Uhr geöffnet. Der Musikfrühling ist eine Veranstaltung der Werbegemeinschaft Biberach.
PRIORITY:1
CLASS:PUBLIC
BEGIN:VALARM
TRIGGER:-PT10080M
ACTION:DISPLAY
DESCRIPTION:Reminder
END:VALARM
END:VEVENT
END:VCALENDAR
