BEGIN:VCALENDAR
VERSION:2.0
METHOD:PUBLISH
BEGIN:VEVENT
DTSTART:20260501T110000Z
LOCATION:Riffelhof Burgrieden
TRANSP: OPAQUE
SEQUENCE:0
UID:
DTSTAMP:20260421T112444Z
SUMMARY:Unplugged Open Air, Umsonst &#038; Draußen
DESCRIPTION:Unplugged Open Air, Umsonst &amp; Draußen
PRIORITY:1
CLASS:PUBLIC
BEGIN:VALARM
TRIGGER:-PT10080M
ACTION:DISPLAY
DESCRIPTION:Reminder
END:VALARM
END:VEVENT
END:VCALENDAR
