BEGIN:VCALENDAR
VERSION:2.0
METHOD:PUBLISH
BEGIN:VEVENT
DTSTART:20260509T140000Z
LOCATION:Start: Turnhalle Dettingen
TRANSP: OPAQUE
SEQUENCE:0
UID:
DTSTAMP:20260421T182247Z
SUMMARY:TVD Spendenlauf
DESCRIPTION:Für alle – Jung &amp; AltLaufen für einen guten Zweck – für das Kinderhospiz Bad GrönenbachSamstag, 09.05.2026 – Start: 14 Uhr – Turnhalle DettingenVoranmeldung bis 1 Woche vorher – Startgeld 5 EUR (Bezahlung vor Ort)tv.dettingen@googlemail.comauch Abnahme von Sportabzeichen-Ausdauer via GPS möglichauf folgenden Strecken:  3km bzw. 10km Laufen und 7,5km WalkenAuskunft geben unsere Sportabzeichen-Prüfer!
PRIORITY:1
CLASS:PUBLIC
BEGIN:VALARM
TRIGGER:-PT10080M
ACTION:DISPLAY
DESCRIPTION:Reminder
END:VALARM
END:VEVENT
END:VCALENDAR
