BEGIN:VCALENDAR
VERSION:2.0
METHOD:PUBLISH
BEGIN:VEVENT
DTSTART:20260509T100000Z
LOCATION:Innenstadt Kempten
TRANSP: OPAQUE
SEQUENCE:0
UID:
DTSTAMP:20260421T181943Z
SUMMARY:Tag der Musik
DESCRIPTION:Am 9. Mai 2026 wird die Kemptener Innenstadt wieder zur Bühne für zahlreiche Musiker*innen und Bands. Von Oldies über Rock- und Popmusik bis hin zu Live-Looping ist für jeden Geschmack etwas geboten. Bands und Solokünstler*innen treten hier auf und setzen sich mit ihrer Musik für einen guten Zweck ein, indem sie auf ihre Gage verzichten.Mehr Infos unter: https://www.kempten-tourismus.de/tag-der-musik
PRIORITY:1
CLASS:PUBLIC
BEGIN:VALARM
TRIGGER:-PT10080M
ACTION:DISPLAY
DESCRIPTION:Reminder
END:VALARM
END:VEVENT
END:VCALENDAR
